BEGIN:VCALENDAR
VERSION:2.0
PRODID:-//Agrarias UNR - ECPv6.15.20//NONSGML v1.0//EN
CALSCALE:GREGORIAN
METHOD:PUBLISH
X-WR-CALNAME:Agrarias UNR
X-ORIGINAL-URL:https://fcagr.unr.edu.ar
X-WR-CALDESC:Eventos para Agrarias UNR
REFRESH-INTERVAL;VALUE=DURATION:PT1H
X-Robots-Tag:noindex
X-PUBLISHED-TTL:PT1H
BEGIN:VTIMEZONE
TZID:America/Argentina/Buenos_Aires
BEGIN:STANDARD
TZOFFSETFROM:-0300
TZOFFSETTO:-0300
TZNAME:-03
DTSTART:20250101T000000
END:STANDARD
END:VTIMEZONE
BEGIN:VEVENT
DTSTART;TZID=America/Argentina/Buenos_Aires:20260505T130000
DTEND;TZID=America/Argentina/Buenos_Aires:20260505T160000
DTSTAMP:20260424T040726
CREATED:20260421T122128Z
LAST-MODIFIED:20260422T133157Z
UID:14015-1777986000-1777996800@fcagr.unr.edu.ar
SUMMARY:Introducción a los Derechos Humanos en las Ciencias Agrarias
DESCRIPTION:El Consejo Asesor de Derechos Humanos dependiente de la Dirección de Género y DDHH de la Facultad de Ciencias Agrarias de la Universidad Nacional de Rosario llevará a cabo el Curso de Extensión “Introducción a los Derechos Humanos en las Ciencias Agrarias”. El mismo se llevará a cabo los días 05\, 12\, 19\, 26 de mayo; 02\, 09 y 16 de junio. Los días martes de 13 a 16 horas. \n\n\n\nLos objetivos del curso son:– Conocer y comprender los conceptos básicos que sostienen el paradigma de los derechos humanos\, así como los principales instrumentos internacionales y marcos normativos nacionales.– Identificar políticas públicas y prácticas sociales que favorecen u obstaculizan el acceso a la igualdad\, a la alimentación\, a la inclusión\, a una educación y a un ambiente sano.– Construir herramientas teórico-prácticas que contribuyan con el cumplimiento de los derechos humanos en el campo de las ciencias agrarias. \n\n\n\nDocentes a cargo del dictado. Integrantes del Consejo Asesor de Derechos Humanos de la FCA-UNR:Alsina\, María VerónicaBonel\, BeatrizCapitani\, LucilaCardinale\, María Eugenia (docente invitada)Cattólica\, Virginia GabrielaGonzález\, LucíaLa Bruna\, RominaMontico\, SergioMuñoz\, Griselda (Responsable) yPieroni\, Natalia. \n\n\n\nSe entregarán certificados de participación. \n\n\n\n\nFormulario de inscripción
URL:https://fcagr.unr.edu.ar/eventos/intro-ddhh-agrarias/
END:VEVENT
END:VCALENDAR